BEGIN:VCALENDAR
VERSION:2.0
PRODID:-//Deming Luna County MainStreet Program  - ECPv6.15.20//NONSGML v1.0//EN
CALSCALE:GREGORIAN
METHOD:PUBLISH
X-ORIGINAL-URL:https://demingmainstreet.org
X-WR-CALDESC:Events for Deming Luna County MainStreet Program 
REFRESH-INTERVAL;VALUE=DURATION:PT1H
X-Robots-Tag:noindex
X-PUBLISHED-TTL:PT1H
BEGIN:VTIMEZONE
TZID:UTC
BEGIN:STANDARD
TZOFFSETFROM:+0000
TZOFFSETTO:+0000
TZNAME:UTC
DTSTART:20190101T000000
END:STANDARD
END:VTIMEZONE
BEGIN:VEVENT
DTSTART;TZID=UTC:20210506T180000
DTEND;TZID=UTC:20210506T190000
DTSTAMP:20260421T144313
CREATED:20210426T194138Z
LAST-MODIFIED:20210426T194138Z
UID:5855-1620324000-1620327600@demingmainstreet.org
SUMMARY:Deming MainStreet Cash Mob - Featuring Florida Mountain Plant Shop
DESCRIPTION:Join us for our Deming MainStreet Cash Mob live sale event featuring Florida Mountain Plant Shop!\n\n\n#SupportOurLocalBusinesses
URL:https://demingmainstreet.org/event/deming-mainstreet-cash-mob-featuring-florida-mountain-plant-shop/
LOCATION:NM
END:VEVENT
BEGIN:VEVENT
DTSTART;TZID=UTC:20210318T180000
DTEND;TZID=UTC:20210318T200000
DTSTAMP:20260421T144313
CREATED:20210315T173309Z
LAST-MODIFIED:20210315T173309Z
UID:5799-1616090400-1616097600@demingmainstreet.org
SUMMARY:Deming MainStreet Cash Mob
DESCRIPTION:Join us for our first ever Deming MainStreet Cash Mob featuring The Yarn Emporium!! Tune in for a chance to win a trivia giveaway!
URL:https://demingmainstreet.org/event/deming-mainstreet-cash-mob/
LOCATION:NM
END:VEVENT
BEGIN:VEVENT
DTSTART;TZID=UTC:20200808T080000
DTEND;TZID=UTC:20200808T110000
DTSTAMP:20260421T144313
CREATED:20200413T215504Z
LAST-MODIFIED:20200413T215504Z
UID:2501-1596873600-1596884400@demingmainstreet.org
SUMMARY:MainStreet Market
DESCRIPTION:
URL:https://demingmainstreet.org/event/mainstreet-market-3/
LOCATION:Historic Luna County Courthouse Park\, 700 Silver Ave\, Deming\, NM\, 88030\, United States
END:VEVENT
BEGIN:VEVENT
DTSTART;TZID=UTC:20200711T080000
DTEND;TZID=UTC:20200711T110000
DTSTAMP:20260421T144313
CREATED:20200413T215308Z
LAST-MODIFIED:20200413T215308Z
UID:2498-1594454400-1594465200@demingmainstreet.org
SUMMARY:MainStreet Market
DESCRIPTION:
URL:https://demingmainstreet.org/event/mainstreet-market-2/
LOCATION:Historic Luna County Courthouse Park\, 700 Silver Ave\, Deming\, NM\, 88030\, United States
END:VEVENT
BEGIN:VEVENT
DTSTART;TZID=UTC:20200613T080000
DTEND;TZID=UTC:20200613T110000
DTSTAMP:20260421T144313
CREATED:20200326T222954Z
LAST-MODIFIED:20200610T215754Z
UID:1767-1592035200-1592046000@demingmainstreet.org
SUMMARY:MainStreet Market
DESCRIPTION:Due to current Covid-19 restrictions\, we are unable to hold our MainStreet Markets. As soon as the restrictions permit\, we will resume our scheduled events.
URL:https://demingmainstreet.org/event/mainstreet-market/
LOCATION:Historic Luna County Courthouse Park\, 700 Silver Ave\, Deming\, NM\, 88030\, United States
END:VEVENT
END:VCALENDAR